BEGIN:VCALENDAR
VERSION:2.0
PRODID:JMS Hockey
X-PUBLISHED-TTL:P1W
BEGIN:VEVENT
UID:69e79f4b9f6b4
DTSTART:20160525T011500Z
SEQUENCE:0
TRANSP:OPAQUE
DTEND:20160525T024500Z
URL:http://jmshockey.com/games/8754
LOCATION:Maple Grove
SUMMARY:Intermediate Game at Maple Grove
CLASS:PUBLIC
DTSTAMP:20260421T110115Z
END:VEVENT
END:VCALENDAR