BEGIN:VCALENDAR
VERSION:2.0
PRODID:JMS Hockey
X-PUBLISHED-TTL:P1W
BEGIN:VEVENT
UID:69e7ad7dddd67
DTSTART:20160518T010000Z
SEQUENCE:0
TRANSP:OPAQUE
DTEND:20160518T023000Z
URL:http://jmshockey.com/games/8753
LOCATION:Maple Grove
SUMMARY:Intermediate Game at Maple Grove
CLASS:PUBLIC
DTSTAMP:20260421T120149Z
END:VEVENT
END:VCALENDAR