BEGIN:VCALENDAR
VERSION:2.0
PRODID:JMS Hockey
X-PUBLISHED-TTL:P1W
BEGIN:VEVENT
UID:69e7dd50aa07b
DTSTART:20160518T004500Z
SEQUENCE:0
TRANSP:OPAQUE
DTEND:20160518T021500Z
URL:http://jmshockey.com/games/8748
LOCATION:Eden Prairie Comm Ctr
SUMMARY:Upper Level Game at Eden Prairie Comm Ctr
CLASS:PUBLIC
DTSTAMP:20260421T152552Z
END:VEVENT
END:VCALENDAR