BEGIN:VCALENDAR
VERSION:2.0
PRODID:JMS Hockey
X-PUBLISHED-TTL:P1W
BEGIN:VEVENT
UID:69e795bc24787
DTSTART:20160423T022500Z
SEQUENCE:0
TRANSP:OPAQUE
DTEND:20160423T035500Z
URL:http://jmshockey.com/games/8739
LOCATION:Braemar Arena
SUMMARY:Intermediate Game at Braemar Arena
CLASS:PUBLIC
DTSTAMP:20260421T102028Z
END:VEVENT
END:VCALENDAR