BEGIN:VCALENDAR
VERSION:2.0
PRODID:JMS Hockey
X-PUBLISHED-TTL:P1W
BEGIN:VEVENT
UID:69e7bd6502f48
DTSTART:20160527T003000Z
SEQUENCE:0
TRANSP:OPAQUE
DTEND:20160527T014500Z
URL:http://jmshockey.com/games/8730
LOCATION:Parade Ice Gardens
SUMMARY:Novice Game at Parade Ice Gardens
CLASS:PUBLIC
DTSTAMP:20260421T130941Z
END:VEVENT
END:VCALENDAR