BEGIN:VCALENDAR
VERSION:2.0
PRODID:JMS Hockey
X-PUBLISHED-TTL:P1W
BEGIN:VEVENT
UID:69e7ada2eee0c
DTSTART:20160428T014000Z
SEQUENCE:0
TRANSP:OPAQUE
DTEND:20160428T031000Z
URL:http://jmshockey.com/games/8698
LOCATION:Doug Woog Arena (Wakota)
SUMMARY:Level 3 Game at Doug Woog Arena (Wakota)
CLASS:PUBLIC
DTSTAMP:20260421T120226Z
END:VEVENT
END:VCALENDAR