BEGIN:VCALENDAR
VERSION:2.0
PRODID:JMS Hockey
X-PUBLISHED-TTL:P1W
BEGIN:VEVENT
UID:69e77ae4a1e49
DTSTART:20160425T024000Z
SEQUENCE:0
TRANSP:OPAQUE
DTEND:20160425T034000Z
URL:http://jmshockey.com/games/8692
LOCATION:Highland Arena
SUMMARY:All level Game at Highland Arena
CLASS:PUBLIC
DTSTAMP:20260421T082556Z
END:VEVENT
END:VCALENDAR