BEGIN:VCALENDAR
VERSION:2.0
PRODID:JMS Hockey
X-PUBLISHED-TTL:P1W
BEGIN:VEVENT
UID:69e773257a40a
DTSTART:20160408T023000Z
SEQUENCE:0
TRANSP:OPAQUE
DTEND:20160408T040000Z
URL:http://jmshockey.com/games/8679
LOCATION:Maple Grove
SUMMARY:Lower Level Game at Maple Grove
CLASS:PUBLIC
DTSTAMP:20260421T075253Z
END:VEVENT
END:VCALENDAR