BEGIN:VCALENDAR
VERSION:2.0
PRODID:JMS Hockey
X-PUBLISHED-TTL:P1W
BEGIN:VEVENT
UID:69e7732452245
DTSTART:20160423T020000Z
SEQUENCE:0
TRANSP:OPAQUE
DTEND:20160423T033000Z
URL:http://jmshockey.com/games/8666
LOCATION:Rosemount Arena
SUMMARY:Lower Level Game at Rosemount Arena
CLASS:PUBLIC
DTSTAMP:20260421T075252Z
END:VEVENT
END:VCALENDAR