BEGIN:VCALENDAR
VERSION:2.0
PRODID:JMS Hockey
X-PUBLISHED-TTL:P1W
BEGIN:VEVENT
UID:69e7c36c59e3c
DTSTART:20160424T013000Z
SEQUENCE:0
TRANSP:OPAQUE
DTEND:20160424T030000Z
URL:http://jmshockey.com/games/8661
LOCATION:St Thomas Ice Arena
SUMMARY:All level Game at St Thomas Ice Arena
CLASS:PUBLIC
DTSTAMP:20260421T133524Z
END:VEVENT
END:VCALENDAR