BEGIN:VCALENDAR
VERSION:2.0
PRODID:JMS Hockey
X-PUBLISHED-TTL:P1W
BEGIN:VEVENT
UID:69e7dcec7492f
DTSTART:20090919T004500Z
SEQUENCE:0
TRANSP:OPAQUE
DTEND:20090919T021500Z
URL:http://jmshockey.com/games/866
LOCATION:Breck Anderson Arena
SUMMARY:Level 4 Game at Breck Anderson Arena
CLASS:PUBLIC
DTSTAMP:20260421T152412Z
END:VEVENT
END:VCALENDAR