BEGIN:VCALENDAR
VERSION:2.0
PRODID:JMS Hockey
X-PUBLISHED-TTL:P1W
BEGIN:VEVENT
UID:69e7a4de6b846
DTSTART:20160412T024000Z
SEQUENCE:0
TRANSP:OPAQUE
DTEND:20160412T041000Z
URL:http://jmshockey.com/games/8655
LOCATION:St Thomas Ice Arena
SUMMARY:Elite Game at St Thomas Ice Arena
CLASS:PUBLIC
DTSTAMP:20260421T112502Z
END:VEVENT
END:VCALENDAR