BEGIN:VCALENDAR
VERSION:2.0
PRODID:JMS Hockey
X-PUBLISHED-TTL:P1W
BEGIN:VEVENT
UID:69e79a2e1521d
DTSTART:20160326T010000Z
SEQUENCE:0
TRANSP:OPAQUE
DTEND:20160326T023000Z
URL:http://jmshockey.com/games/8650
LOCATION:Doug Woog Arena (Wakota)
SUMMARY:Intermediate Game at Doug Woog Arena (Wakota)
CLASS:PUBLIC
DTSTAMP:20260421T103926Z
END:VEVENT
END:VCALENDAR