BEGIN:VCALENDAR
VERSION:2.0
PRODID:JMS Hockey
X-PUBLISHED-TTL:P1W
BEGIN:VEVENT
UID:69e79a6378291
DTSTART:20160305T015000Z
SEQUENCE:0
TRANSP:OPAQUE
DTEND:20160305T032000Z
URL:http://jmshockey.com/games/8649
LOCATION:Doug Woog Arena (Wakota)
SUMMARY:Intermediate Game at Doug Woog Arena (Wakota)
CLASS:PUBLIC
DTSTAMP:20260421T104019Z
END:VEVENT
END:VCALENDAR