BEGIN:VCALENDAR
VERSION:2.0
PRODID:JMS Hockey
X-PUBLISHED-TTL:P1W
BEGIN:VEVENT
UID:69e795bc0e53e
DTSTART:20160322T010000Z
SEQUENCE:0
TRANSP:OPAQUE
DTEND:20160322T023000Z
URL:http://jmshockey.com/games/8642
LOCATION:Doug Woog Arena (Wakota)
SUMMARY:Lower Level Game at Doug Woog Arena (Wakota)
CLASS:PUBLIC
DTSTAMP:20260421T102028Z
END:VEVENT
END:VCALENDAR