BEGIN:VCALENDAR
VERSION:2.0
PRODID:JMS Hockey
X-PUBLISHED-TTL:P1W
BEGIN:VEVENT
UID:69e7e6d23a041
DTSTART:20090917T024500Z
SEQUENCE:0
TRANSP:OPAQUE
DTEND:20090917T041500Z
URL:http://jmshockey.com/games/863
LOCATION:Roseville Skating Center
SUMMARY:Level 4 Game at Roseville Skating Center
CLASS:PUBLIC
DTSTAMP:20260421T160626Z
END:VEVENT
END:VCALENDAR