BEGIN:VCALENDAR
VERSION:2.0
PRODID:JMS Hockey
X-PUBLISHED-TTL:P1W
BEGIN:VEVENT
UID:69e7a77419693
DTSTART:20160325T024000Z
SEQUENCE:0
TRANSP:OPAQUE
DTEND:20160325T041000Z
URL:http://jmshockey.com/games/8620
LOCATION:St Thomas Ice Arena
SUMMARY:All level Game at St Thomas Ice Arena
CLASS:PUBLIC
DTSTAMP:20260421T113604Z
END:VEVENT
END:VCALENDAR