BEGIN:VCALENDAR
VERSION:2.0
PRODID:JMS Hockey
X-PUBLISHED-TTL:P1W
BEGIN:VEVENT
UID:69e7a383d4701
DTSTART:20160402T010000Z
SEQUENCE:0
TRANSP:OPAQUE
DTEND:20160402T023000Z
URL:http://jmshockey.com/games/8608
LOCATION:St Louis Park Rec Center
SUMMARY:Upper Level Game at St Louis Park Rec Center
CLASS:PUBLIC
DTSTAMP:20260421T111915Z
END:VEVENT
END:VCALENDAR