BEGIN:VCALENDAR
VERSION:2.0
PRODID:JMS Hockey
X-PUBLISHED-TTL:P1W
BEGIN:VEVENT
UID:69e7a38172fc2
DTSTART:20160326T010000Z
SEQUENCE:0
TRANSP:OPAQUE
DTEND:20160326T023000Z
URL:http://jmshockey.com/games/8602
LOCATION:St Louis Park Rec Center
SUMMARY:Upper Level Game at St Louis Park Rec Center
CLASS:PUBLIC
DTSTAMP:20260421T111913Z
END:VEVENT
END:VCALENDAR