BEGIN:VCALENDAR
VERSION:2.0
PRODID:JMS Hockey
X-PUBLISHED-TTL:P1W
BEGIN:VEVENT
UID:69e77a592f4b5
DTSTART:20160413T024500Z
SEQUENCE:0
TRANSP:OPAQUE
DTEND:20160413T041500Z
URL:http://jmshockey.com/games/8599
LOCATION:St Louis Park Rec Center
SUMMARY:Intermediate Game at St Louis Park Rec Center
CLASS:PUBLIC
DTSTAMP:20260421T082337Z
END:VEVENT
END:VCALENDAR