BEGIN:VCALENDAR
VERSION:2.0
PRODID:JMS Hockey
X-PUBLISHED-TTL:P1W
BEGIN:VEVENT
UID:69e7ad9d086fa
DTSTART:20160406T024500Z
SEQUENCE:0
TRANSP:OPAQUE
DTEND:20160406T041500Z
URL:http://jmshockey.com/games/8598
LOCATION:St Louis Park Rec Center
SUMMARY:Intermediate Game at St Louis Park Rec Center
CLASS:PUBLIC
DTSTAMP:20260421T120221Z
END:VEVENT
END:VCALENDAR