BEGIN:VCALENDAR
VERSION:2.0
PRODID:JMS Hockey
X-PUBLISHED-TTL:P1W
BEGIN:VEVENT
UID:69e79631c32fc
DTSTART:20160419T163000Z
SEQUENCE:0
TRANSP:OPAQUE
DTEND:20160419T181500Z
URL:http://jmshockey.com/games/8591
LOCATION:Eden Prairie Comm Ctr
SUMMARY:All level Game at Eden Prairie Comm Ctr
CLASS:PUBLIC
DTSTAMP:20260421T102225Z
END:VEVENT
END:VCALENDAR