BEGIN:VCALENDAR
VERSION:2.0
PRODID:JMS Hockey
X-PUBLISHED-TTL:P1W
BEGIN:VEVENT
UID:69e795beec6e1
DTSTART:20160312T021500Z
SEQUENCE:0
TRANSP:OPAQUE
DTEND:20160312T034500Z
URL:http://jmshockey.com/games/8581
LOCATION:Roseville Skating Center
SUMMARY:Lower Level Game at Roseville Skating Center
CLASS:PUBLIC
DTSTAMP:20260421T102030Z
END:VEVENT
END:VCALENDAR