BEGIN:VCALENDAR
VERSION:2.0
PRODID:JMS Hockey
X-PUBLISHED-TTL:P1W
BEGIN:VEVENT
UID:69e795bc50a9b
DTSTART:20160414T013000Z
SEQUENCE:0
TRANSP:OPAQUE
DTEND:20160414T030000Z
URL:http://jmshockey.com/games/8576
LOCATION:Polar Arena
SUMMARY:Lower Level Game at Polar Arena
CLASS:PUBLIC
DTSTAMP:20260421T102028Z
END:VEVENT
END:VCALENDAR