BEGIN:VCALENDAR
VERSION:2.0
PRODID:JMS Hockey
X-PUBLISHED-TTL:P1W
BEGIN:VEVENT
UID:69e7c504be81a
DTSTART:20090916T023000Z
SEQUENCE:0
TRANSP:OPAQUE
DTEND:20090916T040000Z
URL:http://jmshockey.com/games/857
LOCATION:Doug Woog Arena (Wakota)
SUMMARY:Level 3 Game at Doug Woog Arena (Wakota)
CLASS:PUBLIC
DTSTAMP:20260421T134212Z
END:VEVENT
END:VCALENDAR