BEGIN:VCALENDAR
VERSION:2.0
PRODID:JMS Hockey
X-PUBLISHED-TTL:P1W
BEGIN:VEVENT
UID:69e7a7712d575
DTSTART:20160317T013000Z
SEQUENCE:0
TRANSP:OPAQUE
DTEND:20160317T030000Z
URL:http://jmshockey.com/games/8569
LOCATION:Maple Grove
SUMMARY:Upper Level Game at Maple Grove
CLASS:PUBLIC
DTSTAMP:20260421T113601Z
END:VEVENT
END:VCALENDAR