BEGIN:VCALENDAR
VERSION:2.0
PRODID:JMS Hockey
X-PUBLISHED-TTL:P1W
BEGIN:VEVENT
UID:69e7ad5c0a5e9
DTSTART:20160323T014500Z
SEQUENCE:0
TRANSP:OPAQUE
DTEND:20160323T031500Z
URL:http://jmshockey.com/games/8563
LOCATION:Maple Grove
SUMMARY:Intermediate Game at Maple Grove
CLASS:PUBLIC
DTSTAMP:20260421T120116Z
END:VEVENT
END:VCALENDAR