BEGIN:VCALENDAR
VERSION:2.0
PRODID:JMS Hockey
X-PUBLISHED-TTL:P1W
BEGIN:VEVENT
UID:69e799f69ca02
DTSTART:20160312T014500Z
SEQUENCE:0
TRANSP:OPAQUE
DTEND:20160312T031500Z
URL:http://jmshockey.com/games/8552
LOCATION:Eden Prairie Comm Ctr
SUMMARY:Intermediate Game at Eden Prairie Comm Ctr
CLASS:PUBLIC
DTSTAMP:20260421T103830Z
END:VEVENT
END:VCALENDAR