BEGIN:VCALENDAR
VERSION:2.0
PRODID:JMS Hockey
X-PUBLISHED-TTL:P1W
BEGIN:VEVENT
UID:69e7b9a2095bd
DTSTART:20160316T004500Z
SEQUENCE:0
TRANSP:OPAQUE
DTEND:20160316T021500Z
URL:http://jmshockey.com/games/8545
LOCATION:Eden Prairie Comm Ctr
SUMMARY:Upper Level Game at Eden Prairie Comm Ctr
CLASS:PUBLIC
DTSTAMP:20260421T125338Z
END:VEVENT
END:VCALENDAR