BEGIN:VCALENDAR
VERSION:2.0
PRODID:JMS Hockey
X-PUBLISHED-TTL:P1W
BEGIN:VEVENT
UID:69e7a775355da
DTSTART:20160427T020000Z
SEQUENCE:0
TRANSP:OPAQUE
DTEND:20160427T033000Z
URL:http://jmshockey.com/games/8543
LOCATION:Eden Prairie Comm Ctr
SUMMARY:Upper Level Game at Eden Prairie Comm Ctr
CLASS:PUBLIC
DTSTAMP:20260421T113605Z
END:VEVENT
END:VCALENDAR