BEGIN:VCALENDAR
VERSION:2.0
PRODID:JMS Hockey
X-PUBLISHED-TTL:P1W
BEGIN:VEVENT
UID:69e79573bba20
DTSTART:20160310T031500Z
SEQUENCE:0
TRANSP:OPAQUE
DTEND:20160310T044500Z
URL:http://jmshockey.com/games/8540
LOCATION:Cottage Grove Ice Arena
SUMMARY:Lower Level Game at Cottage Grove Ice Arena
CLASS:PUBLIC
DTSTAMP:20260421T101915Z
END:VEVENT
END:VCALENDAR