BEGIN:VCALENDAR
VERSION:2.0
PRODID:JMS Hockey
X-PUBLISHED-TTL:P1W
BEGIN:VEVENT
UID:69e799fba8f06
DTSTART:20160401T234500Z
SEQUENCE:0
TRANSP:OPAQUE
DTEND:20160402T011500Z
URL:http://jmshockey.com/games/8538
LOCATION:Parade Ice Gardens
SUMMARY:Novice Game at Parade Ice Gardens
CLASS:PUBLIC
DTSTAMP:20260421T103835Z
END:VEVENT
END:VCALENDAR