BEGIN:VCALENDAR
VERSION:2.0
PRODID:JMS Hockey
X-PUBLISHED-TTL:P1W
BEGIN:VEVENT
UID:69e7b31436e20
DTSTART:20090915T021500Z
SEQUENCE:0
TRANSP:OPAQUE
DTEND:20090915T034500Z
URL:http://jmshockey.com/games/852
LOCATION:Bloomington Ice Gardens
SUMMARY:Level 1 Game at Bloomington Ice Gardens
CLASS:PUBLIC
DTSTAMP:20260421T122540Z
END:VEVENT
END:VCALENDAR