BEGIN:VCALENDAR
VERSION:2.0
PRODID:JMS Hockey
X-PUBLISHED-TTL:P1W
BEGIN:VEVENT
UID:69e7ad99741ae
DTSTART:20160518T022000Z
SEQUENCE:0
TRANSP:OPAQUE
DTEND:20160518T035000Z
URL:http://jmshockey.com/games/8507
LOCATION:Burnsville Arena
SUMMARY:Lower Level Game at Burnsville Arena
CLASS:PUBLIC
DTSTAMP:20260421T120217Z
END:VEVENT
END:VCALENDAR