BEGIN:VCALENDAR
VERSION:2.0
PRODID:JMS Hockey
X-PUBLISHED-TTL:P1W
BEGIN:VEVENT
UID:69e787f48a019
DTSTART:20160420T010000Z
SEQUENCE:0
TRANSP:OPAQUE
DTEND:20160420T023000Z
URL:http://jmshockey.com/games/8503
LOCATION:Burnsville Arena
SUMMARY:Lower Level Game at Burnsville Arena
CLASS:PUBLIC
DTSTAMP:20260421T092140Z
END:VEVENT
END:VCALENDAR