BEGIN:VCALENDAR
VERSION:2.0
PRODID:JMS Hockey
X-PUBLISHED-TTL:P1W
BEGIN:VEVENT
UID:69e79a0727971
DTSTART:20160406T010000Z
SEQUENCE:0
TRANSP:OPAQUE
DTEND:20160406T023000Z
URL:http://jmshockey.com/games/8501
LOCATION:Burnsville Arena
SUMMARY:Lower Level Game at Burnsville Arena
CLASS:PUBLIC
DTSTAMP:20260421T103847Z
END:VEVENT
END:VCALENDAR