BEGIN:VCALENDAR
VERSION:2.0
PRODID:JMS Hockey
X-PUBLISHED-TTL:P1W
BEGIN:VEVENT
UID:69e7a78a38c5c
DTSTART:20160330T010000Z
SEQUENCE:0
TRANSP:OPAQUE
DTEND:20160330T023000Z
URL:http://jmshockey.com/games/8500
LOCATION:Burnsville Arena
SUMMARY:Lower Level Game at Burnsville Arena
CLASS:PUBLIC
DTSTAMP:20260421T113626Z
END:VEVENT
END:VCALENDAR