BEGIN:VCALENDAR
VERSION:2.0
PRODID:JMS Hockey
X-PUBLISHED-TTL:P1W
BEGIN:VEVENT
UID:69e799f6219fa
DTSTART:20160323T010000Z
SEQUENCE:0
TRANSP:OPAQUE
DTEND:20160323T023000Z
URL:http://jmshockey.com/games/8499
LOCATION:Burnsville Arena
SUMMARY:Lower Level Game at Burnsville Arena
CLASS:PUBLIC
DTSTAMP:20260421T103830Z
END:VEVENT
END:VCALENDAR