BEGIN:VCALENDAR
VERSION:2.0
PRODID:JMS Hockey
X-PUBLISHED-TTL:P1W
BEGIN:VEVENT
UID:69e791603c4f0
DTSTART:20160608T021000Z
SEQUENCE:0
TRANSP:OPAQUE
DTEND:20160608T034000Z
URL:http://jmshockey.com/games/8496
LOCATION:Burnsville Arena
SUMMARY:Lower Level Game at Burnsville Arena
CLASS:PUBLIC
DTSTAMP:20260421T100152Z
END:VEVENT
END:VCALENDAR