BEGIN:VCALENDAR
VERSION:2.0
PRODID:JMS Hockey
X-PUBLISHED-TTL:P1W
BEGIN:VEVENT
UID:69e7a7a29df2f
DTSTART:20160304T034000Z
SEQUENCE:0
TRANSP:OPAQUE
DTEND:20160304T051000Z
URL:http://jmshockey.com/games/8447
LOCATION:St Thomas Ice Arena
SUMMARY:All level Game at St Thomas Ice Arena
CLASS:PUBLIC
DTSTAMP:20260421T113650Z
END:VEVENT
END:VCALENDAR