BEGIN:VCALENDAR
VERSION:2.0
PRODID:JMS Hockey
X-PUBLISHED-TTL:P1W
BEGIN:VEVENT
UID:69e7c33dbd6dc
DTSTART:20160604T010000Z
SEQUENCE:0
TRANSP:OPAQUE
DTEND:20160604T023000Z
URL:http://jmshockey.com/games/8437
LOCATION:St Louis Park Rec Center
SUMMARY:Upper Level Game at St Louis Park Rec Center
CLASS:PUBLIC
DTSTAMP:20260421T133437Z
END:VEVENT
END:VCALENDAR