BEGIN:VCALENDAR
VERSION:2.0
PRODID:JMS Hockey
X-PUBLISHED-TTL:P1W
BEGIN:VEVENT
UID:69e7a4dd37258
DTSTART:20160218T021000Z
SEQUENCE:0
TRANSP:OPAQUE
DTEND:20160218T034000Z
URL:http://jmshockey.com/games/8422
LOCATION:Phalen Arena
SUMMARY:Upper Level Game at Phalen Arena
CLASS:PUBLIC
DTSTAMP:20260421T112501Z
END:VEVENT
END:VCALENDAR