BEGIN:VCALENDAR
VERSION:2.0
PRODID:JMS Hockey
X-PUBLISHED-TTL:P1W
BEGIN:VEVENT
UID:69e7a4d72cddd
DTSTART:20160303T024000Z
SEQUENCE:0
TRANSP:OPAQUE
DTEND:20160303T041000Z
URL:http://jmshockey.com/games/8420
LOCATION:Oscar Johnson
SUMMARY:Upper Level Game at Oscar Johnson
CLASS:PUBLIC
DTSTAMP:20260421T112455Z
END:VEVENT
END:VCALENDAR