BEGIN:VCALENDAR
VERSION:2.0
PRODID:JMS Hockey
X-PUBLISHED-TTL:P1W
BEGIN:VEVENT
UID:69e7b9b825269
DTSTART:20160211T033000Z
SEQUENCE:0
TRANSP:OPAQUE
DTEND:20160211T050000Z
URL:http://jmshockey.com/games/8411
LOCATION:Maple Grove
SUMMARY:Upper Level Game at Maple Grove
CLASS:PUBLIC
DTSTAMP:20260421T125400Z
END:VEVENT
END:VCALENDAR