BEGIN:VCALENDAR
VERSION:2.0
PRODID:JMS Hockey
X-PUBLISHED-TTL:P1W
BEGIN:VEVENT
UID:69e79fb39d6c1
DTSTART:20160218T023000Z
SEQUENCE:0
TRANSP:OPAQUE
DTEND:20160218T040000Z
URL:http://jmshockey.com/games/8402
LOCATION:Polar Arena
SUMMARY:Lower Level Game at Polar Arena
CLASS:PUBLIC
DTSTAMP:20260421T110259Z
END:VEVENT
END:VCALENDAR