BEGIN:VCALENDAR
VERSION:2.0
PRODID:JMS Hockey
X-PUBLISHED-TTL:P1W
BEGIN:VEVENT
UID:69e7a74053b7b
DTSTART:20160211T023000Z
SEQUENCE:0
TRANSP:OPAQUE
DTEND:20160211T040000Z
URL:http://jmshockey.com/games/8401
LOCATION:Polar Arena
SUMMARY:Lower Level Game at Polar Arena
CLASS:PUBLIC
DTSTAMP:20260421T113512Z
END:VEVENT
END:VCALENDAR