BEGIN:VCALENDAR
VERSION:2.0
PRODID:JMS Hockey
X-PUBLISHED-TTL:P1W
BEGIN:VEVENT
UID:69e7ef69f2d7a
DTSTART:20090909T023000Z
SEQUENCE:0
TRANSP:OPAQUE
DTEND:20090909T040000Z
URL:http://jmshockey.com/games/840
LOCATION:St Louis Park Rec Center
SUMMARY:Level 4 Game at St Louis Park Rec Center
CLASS:PUBLIC
DTSTAMP:20260421T164305Z
END:VEVENT
END:VCALENDAR