BEGIN:VCALENDAR
VERSION:2.0
PRODID:JMS Hockey
X-PUBLISHED-TTL:P1W
BEGIN:VEVENT
UID:69e787a2acf8e
DTSTART:20160303T023000Z
SEQUENCE:0
TRANSP:OPAQUE
DTEND:20160303T040000Z
URL:http://jmshockey.com/games/8399
LOCATION:Polar Arena
SUMMARY:Lower Level Game at Polar Arena
CLASS:PUBLIC
DTSTAMP:20260421T092018Z
END:VEVENT
END:VCALENDAR