BEGIN:VCALENDAR
VERSION:2.0
PRODID:JMS Hockey
X-PUBLISHED-TTL:P1W
BEGIN:VEVENT
UID:69e7adcee64b9
DTSTART:20160227T030000Z
SEQUENCE:0
TRANSP:OPAQUE
DTEND:20160227T043000Z
URL:http://jmshockey.com/games/8393
LOCATION:Eden Prairie Comm Ctr
SUMMARY:Intermediate Game at Eden Prairie Comm Ctr
CLASS:PUBLIC
DTSTAMP:20260421T120310Z
END:VEVENT
END:VCALENDAR