BEGIN:VCALENDAR
VERSION:2.0
PRODID:JMS Hockey
X-PUBLISHED-TTL:P1W
BEGIN:VEVENT
UID:69e7b17d8bafb
DTSTART:20160220T030000Z
SEQUENCE:0
TRANSP:OPAQUE
DTEND:20160220T043000Z
URL:http://jmshockey.com/games/8392
LOCATION:Eden Prairie Comm Ctr
SUMMARY:Intermediate Game at Eden Prairie Comm Ctr
CLASS:PUBLIC
DTSTAMP:20260421T121853Z
END:VEVENT
END:VCALENDAR